BEGIN:VCALENDAR
VERSION:2.0
PRODID:-//Grand Traverse Tours - ECPv6.14.2//NONSGML v1.0//EN
CALSCALE:GREGORIAN
METHOD:PUBLISH
X-WR-CALNAME:Grand Traverse Tours
X-ORIGINAL-URL:https://www.grandtraversetours.com
X-WR-CALDESC:Events for Grand Traverse Tours
REFRESH-INTERVAL;VALUE=DURATION:PT1H
X-Robots-Tag:noindex
X-PUBLISHED-TTL:PT1H
BEGIN:VTIMEZONE
TZID:America/Detroit
BEGIN:DAYLIGHT
TZOFFSETFROM:-0500
TZOFFSETTO:-0400
TZNAME:EDT
DTSTART:20190310T070000
END:DAYLIGHT
BEGIN:STANDARD
TZOFFSETFROM:-0400
TZOFFSETTO:-0500
TZNAME:EST
DTSTART:20191103T060000
END:STANDARD
BEGIN:DAYLIGHT
TZOFFSETFROM:-0500
TZOFFSETTO:-0400
TZNAME:EDT
DTSTART:20200308T070000
END:DAYLIGHT
BEGIN:STANDARD
TZOFFSETFROM:-0400
TZOFFSETTO:-0500
TZNAME:EST
DTSTART:20201101T060000
END:STANDARD
END:VTIMEZONE
BEGIN:VEVENT
DTSTART;TZID=America/Detroit:20200215T100000
DTEND;TZID=America/Detroit:20200215T170000
DTSTAMP:20260425T002114
CREATED:20190731T135214Z
LAST-MODIFIED:20190731T135214Z
UID:182-1581760800-1581786000@www.grandtraversetours.com
SUMMARY:Romancing the Riesling
DESCRIPTION:C’est l’amour – of all things Riesling\, that is – at Romancing the Riesling held each February around Valentine’s Day. This annual event celebrates “the grape that defines white wine” and the varietal for which the Northern Michigan wine region is best known. Attendees are invited to visit the ten distinct Wineries of Old Mission Peninsula to taste it’s top Rieslings – of which recent awards include best in the world\, and scores of 93+ points from other highly respected international reviews! \nTickets: $30 in advance / $35 day-of event.
URL:https://www.grandtraversetours.com/event/romancing-the-riesling/
CATEGORIES:Wine Events
END:VEVENT
BEGIN:VEVENT
DTSTART;TZID=America/Detroit:20200118T100000
DTEND;TZID=America/Detroit:20200118T170000
DTSTAMP:20260425T002114
CREATED:20190731T135135Z
LAST-MODIFIED:20190731T135135Z
UID:180-1579341600-1579366800@www.grandtraversetours.com
SUMMARY:Winter Warm Up
DESCRIPTION:Shake off the chill of January with the Wineries of Old Mission Peninsula’s Winter Warm Up. You’re invited to taste your way through the trail\, stopping at ten distinct wineries featuring seasonal comfort food small bites from local restaurants paired with unique wine offerings. You’ll leave this event with a cozy-glow\, full belly\, and special souvenir mug. \nTickets: $30 in advance / $35 day-of event.
URL:https://www.grandtraversetours.com/event/winter-warm-up/
CATEGORIES:Wine Events
END:VEVENT
BEGIN:VEVENT
DTSTART;VALUE=DATE:20200111
DTEND;VALUE=DATE:20200113
DTSTAMP:20260425T002114
CREATED:20190731T135052Z
LAST-MODIFIED:20190731T135052Z
UID:178-1578700800-1578873599@www.grandtraversetours.com
SUMMARY:Sips & Soups
DESCRIPTION:Experience the magic of our wineries covered in a glistening blanket of snow\, while sipping savory soups and hearty chilis paired with delicious Pinot Noirs\, Rieslings\, Chardonnays and more. \nTickets: $30 in advance / $35 day-of event.
URL:https://www.grandtraversetours.com/event/sips-soups/
CATEGORIES:Wine Events
END:VEVENT
BEGIN:VEVENT
DTSTART;TZID=America/Detroit:20191001T090000
DTEND;TZID=America/Detroit:20191001T170000
DTSTAMP:20260425T002114
CREATED:20190731T134901Z
LAST-MODIFIED:20190731T134901Z
UID:176-1569920400-1569949200@www.grandtraversetours.com
SUMMARY:Great Mac & Cheese Bake-Off
DESCRIPTION:America’s favorite comfort food gets an upgrade with help from celebrated Northern Michigan chefs. Top local restaurants each partner with a winery to create a perfect mac & cheese and wine pairing. Participants get to vote for the best pairing\, cheesiest\, and people’s choice. \nTickets: $50. Advance purchase only.
URL:https://www.grandtraversetours.com/event/great-mac-cheese-bake-off/
CATEGORIES:Wine Events
END:VEVENT
END:VCALENDAR